BEGIN:VCALENDAR
VERSION:2.0
PRODID:-//Eventin//Event Calendar//EN
CALSCALE:GREGORIAN
METHOD:PUBLISH
BEGIN:VEVENT
UID:4e8058e9503fccc6ffee05bd49d4ac32@vitamine-nutrition.ch
SUMMARY:Atelier Aromathérapie au Jardins de Bretigny
DESCRIPTION:Un atelier au cœur des jardins de Bretigny pour préparer diff
 érents mélanges qui vous accompagneront cet été.\n\nLes recettes pourro
 nt être adaptées si vous avez des enfants.\nVous repartirez avec 3 prépa
 rations faites par vos soins.\n\n\n \n\nDurée: 1h00\n\n \n\nHeure: 9h30 
 - 10h30\n\n \n\nLieu: Les Jardins de Bretigny\, Vaud\n\n \n\nPréparation
 :\n\n \n\n\nBaume à tout faire\n \nRoll - on piqure d'insecte\n \nSpray a
 nti-moustique\n\n\n \n\nPrix par personne: 85.- / personnes ou 75.- si mem
 bre des jardins\n \n\nSi le temps ne permet pas d'être en plein air\, une
  salle couverte sera mise à disposition.\n\n \n\n\n\n \n\n\n\nAtelier Ja
 rdins Bretigny\n\n 
LOCATION:Online
DTSTAMP:20260421T081849Z
DTSTART:20260613T070000Z
DTEND:20260613T083000Z
END:VEVENT
END:VCALENDAR
